BEGIN:VCALENDAR
VERSION:2.0
PRODID:-//Gönczy Pál Általános Iskola - ECPv6.14.2//NONSGML v1.0//EN
CALSCALE:GREGORIAN
METHOD:PUBLISH
X-WR-CALNAME:Gönczy Pál Általános Iskola
X-ORIGINAL-URL:https://gonczy.hu
X-WR-CALDESC:Events for Gönczy Pál Általános Iskola
REFRESH-INTERVAL;VALUE=DURATION:PT1H
X-Robots-Tag:noindex
X-PUBLISHED-TTL:PT1H
BEGIN:VTIMEZONE
TZID:UTC
BEGIN:STANDARD
TZOFFSETFROM:+0000
TZOFFSETTO:+0000
TZNAME:UTC
DTSTART:20260101T000000
END:STANDARD
END:VTIMEZONE
BEGIN:VEVENT
DTSTART;TZID=UTC:20260327T100000
DTEND;TZID=UTC:20260327T140000
DTSTAMP:20260422T115254
CREATED:20260213T103305Z
LAST-MODIFIED:20260213T103305Z
UID:9462-1774605600-1774620000@gonczy.hu
SUMMARY:Tanításmentes nap-165. évforduló
DESCRIPTION:
URL:https://gonczy.hu/esemeny/tanitasmentes-nap-165-evfordulo/
END:VEVENT
END:VCALENDAR